BEGIN:VCALENDAR
VERSION:2.0
PRODID:-//Dorfgemeinschaft Debstedt - ECPv6.15.20//NONSGML v1.0//EN
CALSCALE:GREGORIAN
METHOD:PUBLISH
X-WR-CALNAME:Dorfgemeinschaft Debstedt
X-ORIGINAL-URL:https://debstedt.com
X-WR-CALDESC:Veranstaltungen für Dorfgemeinschaft Debstedt
REFRESH-INTERVAL;VALUE=DURATION:PT1H
X-Robots-Tag:noindex
X-PUBLISHED-TTL:PT1H
BEGIN:VTIMEZONE
TZID:Europe/Berlin
BEGIN:DAYLIGHT
TZOFFSETFROM:+0100
TZOFFSETTO:+0200
TZNAME:CEST
DTSTART:20240331T010000
END:DAYLIGHT
BEGIN:STANDARD
TZOFFSETFROM:+0200
TZOFFSETTO:+0100
TZNAME:CET
DTSTART:20241027T010000
END:STANDARD
BEGIN:DAYLIGHT
TZOFFSETFROM:+0100
TZOFFSETTO:+0200
TZNAME:CEST
DTSTART:20250330T010000
END:DAYLIGHT
BEGIN:STANDARD
TZOFFSETFROM:+0200
TZOFFSETTO:+0100
TZNAME:CET
DTSTART:20251026T010000
END:STANDARD
BEGIN:DAYLIGHT
TZOFFSETFROM:+0100
TZOFFSETTO:+0200
TZNAME:CEST
DTSTART:20260329T010000
END:DAYLIGHT
BEGIN:STANDARD
TZOFFSETFROM:+0200
TZOFFSETTO:+0100
TZNAME:CET
DTSTART:20261025T010000
END:STANDARD
END:VTIMEZONE
BEGIN:VEVENT
DTSTART;TZID=Europe/Berlin:20251012T100000
DTEND;TZID=Europe/Berlin:20251012T170000
DTSTAMP:20260422T171743
CREATED:20241010T083042Z
LAST-MODIFIED:20241010T083042Z
UID:950-1760263200-1760288400@debstedt.com
SUMMARY:Hubertusmarkt im Heimat- und Museumsverein
DESCRIPTION:12. Okt.\, 11-17 Uhr \nTraditioneller Hubertusmarkt \nSonntag\, 12. Oktober\, jeweils von 11-17 Uhr \n10 Uhr „Plattd. Jägergottesdienst” in der St. Dionysiuskirche mit Parforcehornchor. Vielseitige Ausstellung mit Jägern\, Naturschützern\, Falknern\, Künstlern\, Jagdhornbläsern. Mittags: Wildgericht. Kaffeetafel mit Buchweizentorte.
URL:https://debstedt.com/event/hubertusmarkt-im-heimat-und-museumsverein
LOCATION:Heimatmuseum Debstedt „De Lindenhoff“\, Kirchenstrs. 6\, Geestland (OT Debstedt)\, Niedersachsen\, 276070\, Deutschland
END:VEVENT
BEGIN:VEVENT
DTSTART;TZID=Europe/Berlin:20251012T173000
DTEND;TZID=Europe/Berlin:20251012T173000
DTSTAMP:20260422T171743
CREATED:20250829T122154Z
LAST-MODIFIED:20250829T122604Z
UID:1376-1760290200-1760290200@debstedt.com
SUMMARY:Gospelkonzert in der St. Dionysiuskirche
DESCRIPTION:Der Chor „Swinging Folk Bremerhaven“ gibt im Anschluss an den Hubertusmarkt ein beschwingtes Konzert in der Kirche.
URL:https://debstedt.com/event/gospelkonzert-in-der-st-dionysiuskirche
LOCATION:St. Dionysiuskirche\, Kirchenstraße 7\, Geestland (OT Debstedt)\, Niedersachsen\, 27607\, Deutschland
END:VEVENT
END:VCALENDAR