BEGIN:VCALENDAR
VERSION:2.0
PRODID:-//Dorfgemeinschaft Debstedt - ECPv6.15.20//NONSGML v1.0//EN
CALSCALE:GREGORIAN
METHOD:PUBLISH
X-WR-CALNAME:Dorfgemeinschaft Debstedt
X-ORIGINAL-URL:https://debstedt.com
X-WR-CALDESC:Veranstaltungen für Dorfgemeinschaft Debstedt
REFRESH-INTERVAL;VALUE=DURATION:PT1H
X-Robots-Tag:noindex
X-PUBLISHED-TTL:PT1H
BEGIN:VTIMEZONE
TZID:Europe/Berlin
BEGIN:DAYLIGHT
TZOFFSETFROM:+0100
TZOFFSETTO:+0200
TZNAME:CEST
DTSTART:20240331T010000
END:DAYLIGHT
BEGIN:STANDARD
TZOFFSETFROM:+0200
TZOFFSETTO:+0100
TZNAME:CET
DTSTART:20241027T010000
END:STANDARD
BEGIN:DAYLIGHT
TZOFFSETFROM:+0100
TZOFFSETTO:+0200
TZNAME:CEST
DTSTART:20250330T010000
END:DAYLIGHT
BEGIN:STANDARD
TZOFFSETFROM:+0200
TZOFFSETTO:+0100
TZNAME:CET
DTSTART:20251026T010000
END:STANDARD
BEGIN:DAYLIGHT
TZOFFSETFROM:+0100
TZOFFSETTO:+0200
TZNAME:CEST
DTSTART:20260329T010000
END:DAYLIGHT
BEGIN:STANDARD
TZOFFSETFROM:+0200
TZOFFSETTO:+0100
TZNAME:CET
DTSTART:20261025T010000
END:STANDARD
END:VTIMEZONE
BEGIN:VEVENT
DTSTART;TZID=Europe/Berlin:20251024T183000
DTEND;TZID=Europe/Berlin:20251024T183000
DTSTAMP:20260422T171726
CREATED:20250816T174710Z
LAST-MODIFIED:20251024T105907Z
UID:1347-1761330600-1761330600@debstedt.com
SUMMARY:Laternelaufen in Debstedt - ist wegen dem Sturm abgesagt ... ein Ersatztermin wird kurzfristig bekannt gegeben.
DESCRIPTION:Der Ortsrat lädt gemeinsam mit der Freiwilligen Feuerwehr Debstedt zum Laternelaufen ein. \nTreffpunkt ist ab 18.30 Uhr auf dem Betriebshof der Feuerwehr (An der Alten Mühle). \nDen Abmarsch hat Ortsbürgermeister Bernd Krüger für 19 Uhr anberaumt. \nNach dem Umzug durch das ruhige Wohngebiet – begleitet durch die Freiwillige Feuerwehr – \nladen die Brandschützer zum Imbiss von Bratwurst und Getränken am Feuerwehrhaus ein.
URL:https://debstedt.com/event/laternelaufen-in-debstedt
LOCATION:Feuerwehrhaus
END:VEVENT
END:VCALENDAR