BEGIN:VCALENDAR
VERSION:2.0
PRODID:-//Dorfgemeinschaft Debstedt - ECPv6.15.20//NONSGML v1.0//EN
CALSCALE:GREGORIAN
METHOD:PUBLISH
X-WR-CALNAME:Dorfgemeinschaft Debstedt
X-ORIGINAL-URL:https://debstedt.com
X-WR-CALDESC:Veranstaltungen für Dorfgemeinschaft Debstedt
REFRESH-INTERVAL;VALUE=DURATION:PT1H
X-Robots-Tag:noindex
X-PUBLISHED-TTL:PT1H
BEGIN:VTIMEZONE
TZID:Europe/Berlin
BEGIN:DAYLIGHT
TZOFFSETFROM:+0100
TZOFFSETTO:+0200
TZNAME:CEST
DTSTART:20240331T010000
END:DAYLIGHT
BEGIN:STANDARD
TZOFFSETFROM:+0200
TZOFFSETTO:+0100
TZNAME:CET
DTSTART:20241027T010000
END:STANDARD
BEGIN:DAYLIGHT
TZOFFSETFROM:+0100
TZOFFSETTO:+0200
TZNAME:CEST
DTSTART:20250330T010000
END:DAYLIGHT
BEGIN:STANDARD
TZOFFSETFROM:+0200
TZOFFSETTO:+0100
TZNAME:CET
DTSTART:20251026T010000
END:STANDARD
BEGIN:DAYLIGHT
TZOFFSETFROM:+0100
TZOFFSETTO:+0200
TZNAME:CEST
DTSTART:20260329T010000
END:DAYLIGHT
BEGIN:STANDARD
TZOFFSETFROM:+0200
TZOFFSETTO:+0100
TZNAME:CET
DTSTART:20261025T010000
END:STANDARD
END:VTIMEZONE
BEGIN:VEVENT
DTSTART;TZID=Europe/Berlin:20251116T093000
DTEND;TZID=Europe/Berlin:20251116T130000
DTSTAMP:20260422T153705
CREATED:20250914T140637Z
LAST-MODIFIED:20250914T140641Z
UID:1419-1763285400-1763298000@debstedt.com
SUMMARY:Volkstrauertag am 16. November 2025
DESCRIPTION:Die Vereinsvertreter treffen sich am 16. November um 9.30 Uhr im Gemeindehaus. Im Anschluss an den Gottesdienst und der Kranzniederlegung bittet der Ortsbürgermeister Bernd Krüger zum Gespräch in das Gemeindehaus.
URL:https://debstedt.com/event/volkstrauertag-am-16-november-2025
LOCATION:Gemeindehaus\, Am Pfarrhaus 1\, Geestland (OT Debstedt)\, Niedersachsen\, 27607
END:VEVENT
END:VCALENDAR