BEGIN:VCALENDAR
VERSION:2.0
PRODID:-//Dorfgemeinschaft Debstedt - ECPv6.15.20//NONSGML v1.0//EN
CALSCALE:GREGORIAN
METHOD:PUBLISH
X-ORIGINAL-URL:https://debstedt.com
X-WR-CALDESC:Veranstaltungen für Dorfgemeinschaft Debstedt
REFRESH-INTERVAL;VALUE=DURATION:PT1H
X-Robots-Tag:noindex
X-PUBLISHED-TTL:PT1H
BEGIN:VTIMEZONE
TZID:Europe/Berlin
BEGIN:DAYLIGHT
TZOFFSETFROM:+0100
TZOFFSETTO:+0200
TZNAME:CEST
DTSTART:20240331T010000
END:DAYLIGHT
BEGIN:STANDARD
TZOFFSETFROM:+0200
TZOFFSETTO:+0100
TZNAME:CET
DTSTART:20241027T010000
END:STANDARD
BEGIN:DAYLIGHT
TZOFFSETFROM:+0100
TZOFFSETTO:+0200
TZNAME:CEST
DTSTART:20250330T010000
END:DAYLIGHT
BEGIN:STANDARD
TZOFFSETFROM:+0200
TZOFFSETTO:+0100
TZNAME:CET
DTSTART:20251026T010000
END:STANDARD
BEGIN:DAYLIGHT
TZOFFSETFROM:+0100
TZOFFSETTO:+0200
TZNAME:CEST
DTSTART:20260329T010000
END:DAYLIGHT
BEGIN:STANDARD
TZOFFSETFROM:+0200
TZOFFSETTO:+0100
TZNAME:CET
DTSTART:20261025T010000
END:STANDARD
END:VTIMEZONE
BEGIN:VEVENT
DTSTART;TZID=Europe/Berlin:20251129T110000
DTEND;TZID=Europe/Berlin:20251130T170000
DTSTAMP:20260422T153823
CREATED:20241010T083056Z
LAST-MODIFIED:20241010T083056Z
UID:952-1764414000-1764522000@debstedt.com
SUMMARY:Großer Weihnachtsmarkt
DESCRIPTION:29. u. 30. November\, 11-17 Uhr \nGroßer Weihnachtsmarkt \nMärchenhafte Verkaufsausstellung \nSonnabend\, 29. November und Sonntag\, 30. November (1.Advent)\, jeweils von 11-17 Uhr \nMittags: Weihnachtliche Sternchensuppe aus dem Bauerngrapen\, Engel-Café\, Waffelbackerei\, Glühwein\, Teestube.
URL:https://debstedt.com/event/grosser-weihnachtsmarkt
LOCATION:Heimatmuseum Debstedt „De Lindenhoff“\, Kirchenstrs. 6\, Geestland (OT Debstedt)\, Niedersachsen\, 276070\, Deutschland
END:VEVENT
BEGIN:VEVENT
DTSTART;TZID=Europe/Berlin:20251129T110000
DTEND;TZID=Europe/Berlin:20251130T193000
DTSTAMP:20260422T153823
CREATED:20250822T082947Z
LAST-MODIFIED:20250822T082947Z
UID:1361-1764414000-1764531000@debstedt.com
SUMMARY:Weihnachtsmarkt auf dem Marktplatz
DESCRIPTION:Ganz dicht nebeneinander stehen die zahlreichen Verkaufsbuden auf dem zentralen Marktplatz.
URL:https://debstedt.com/event/weihnachtsmarkt-auf-dem-marktplatz
LOCATION:Marktplatz Debstedt\, Am Marktplatz\, Geestland (OT Debstedt)\, Niedersachsen\, 27607\, Deutschland
END:VEVENT
END:VCALENDAR