BEGIN:VCALENDAR
VERSION:2.0
PRODID:-//Dorfgemeinschaft Debstedt - ECPv6.15.20//NONSGML v1.0//EN
CALSCALE:GREGORIAN
METHOD:PUBLISH
X-WR-CALNAME:Dorfgemeinschaft Debstedt
X-ORIGINAL-URL:https://debstedt.com
X-WR-CALDESC:Veranstaltungen für Dorfgemeinschaft Debstedt
REFRESH-INTERVAL;VALUE=DURATION:PT1H
X-Robots-Tag:noindex
X-PUBLISHED-TTL:PT1H
BEGIN:VTIMEZONE
TZID:Europe/Berlin
BEGIN:DAYLIGHT
TZOFFSETFROM:+0100
TZOFFSETTO:+0200
TZNAME:CEST
DTSTART:20240331T010000
END:DAYLIGHT
BEGIN:STANDARD
TZOFFSETFROM:+0200
TZOFFSETTO:+0100
TZNAME:CET
DTSTART:20241027T010000
END:STANDARD
BEGIN:DAYLIGHT
TZOFFSETFROM:+0100
TZOFFSETTO:+0200
TZNAME:CEST
DTSTART:20250330T010000
END:DAYLIGHT
BEGIN:STANDARD
TZOFFSETFROM:+0200
TZOFFSETTO:+0100
TZNAME:CET
DTSTART:20251026T010000
END:STANDARD
BEGIN:DAYLIGHT
TZOFFSETFROM:+0100
TZOFFSETTO:+0200
TZNAME:CEST
DTSTART:20260329T010000
END:DAYLIGHT
BEGIN:STANDARD
TZOFFSETFROM:+0200
TZOFFSETTO:+0100
TZNAME:CET
DTSTART:20261025T010000
END:STANDARD
BEGIN:DAYLIGHT
TZOFFSETFROM:+0100
TZOFFSETTO:+0200
TZNAME:CEST
DTSTART:20270328T010000
END:DAYLIGHT
BEGIN:STANDARD
TZOFFSETFROM:+0200
TZOFFSETTO:+0100
TZNAME:CET
DTSTART:20271031T010000
END:STANDARD
END:VTIMEZONE
BEGIN:VEVENT
DTSTART;TZID=Europe/Berlin:20260420T150000
DTEND;TZID=Europe/Berlin:20260420T150000
DTSTAMP:20260422T130137
CREATED:20251214T112939Z
LAST-MODIFIED:20251214T114040Z
UID:1569-1776697200-1776697200@debstedt.com
SUMMARY:DRK-Spielenachmittag
DESCRIPTION:
URL:https://debstedt.com/event/drk-spielenachmittag-4
LOCATION:Gemeindehaus\, Am Pfarrhaus 1\, Geestland (OT Debstedt)\, Niedersachsen\, 27607
END:VEVENT
BEGIN:VEVENT
DTSTART;TZID=Europe/Berlin:20260414T144500
DTEND;TZID=Europe/Berlin:20260414T193000
DTSTAMP:20260422T130138
CREATED:20260410T164428Z
LAST-MODIFIED:20260410T164652Z
UID:1699-1776177900-1776195000@debstedt.com
SUMMARY:Blutspende des DRK
DESCRIPTION:
URL:https://debstedt.com/event/blutspende-des-drk-2
LOCATION:Gemeindehaus Debstedt
END:VEVENT
BEGIN:VEVENT
DTSTART;TZID=Europe/Berlin:20260411T090000
DTEND;TZID=Europe/Berlin:20260411T180000
DTSTAMP:20260422T130138
CREATED:20260401T154539Z
LAST-MODIFIED:20260401T154539Z
UID:1688-1775898000-1775930400@debstedt.com
SUMMARY:Schrottsammlung der Feuerwehrjugend
DESCRIPTION:Jetzt kann Altmetall entsorgt w4rden. Die Jugend der Freiwilligen Feuerwehr Debstedt sammelt Schrott ein. Aber bitte \nkeine Waschmaschinen\, Trockner oder Reifen – dieses Dinge werden von den Kooperationspartnern der Wehr nicht abgenommen.
URL:https://debstedt.com/event/schrottsammlung-der-feuerwehrjugend
LOCATION:Ortschaft Debstedt\, Ortschaft Debstedt
END:VEVENT
BEGIN:VEVENT
DTSTART;TZID=Europe/Berlin:20260321T110000
DTEND;TZID=Europe/Berlin:20260322T170000
DTSTAMP:20260422T130138
CREATED:20251113T172533Z
LAST-MODIFIED:20251113T172932Z
UID:1496-1774090800-1774198800@debstedt.com
SUMMARY:Großer Ostermarkt
DESCRIPTION:Großer Ostermarkt \nSonnabend\, 21. März und Sonntag\, 22. März\, jeweils von 11-17 Uhr \nÖsterliche Verkaufsausstellung\, Frühlingssuppe aus dem Bauerngrapen\, österliche Kaffeestube
URL:https://debstedt.com/event/grosser-ostermarkt
LOCATION:Heimatmuseum Debstedt „De Lindenhoff“\, Kirchenstrs. 6\, Geestland (OT Debstedt)\, Niedersachsen\, 276070\, Deutschland
END:VEVENT
BEGIN:VEVENT
DTSTART;TZID=Europe/Berlin:20260319T160000
DTEND;TZID=Europe/Berlin:20260319T170000
DTSTAMP:20260422T130138
CREATED:20260117T125810Z
LAST-MODIFIED:20260117T125810Z
UID:1610-1773936000-1773939600@debstedt.com
SUMMARY:Schadstoffsammlung
DESCRIPTION:Der Ortsrat weist auf die Schadstoffsammlung von 16 bis 17 Uhr am Marktplatz hin.
URL:https://debstedt.com/event/schadstoffsammlung
LOCATION:Marktplatz Debstedt\, Am Marktplatz\, Geestland (OT Debstedt)\, Niedersachsen\, 27607\, Deutschland
END:VEVENT
BEGIN:VEVENT
DTSTART;TZID=Europe/Berlin:20260316T150000
DTEND;TZID=Europe/Berlin:20260316T150000
DTSTAMP:20260422T130138
CREATED:20251214T113318Z
LAST-MODIFIED:20251214T113449Z
UID:1571-1773673200-1773673200@debstedt.com
SUMMARY:DRK-Spielenachmittag
DESCRIPTION:
URL:https://debstedt.com/event/drk-spielenachmittag-5
LOCATION:Gemeindehaus\, Am Pfarrhaus 1\, Geestland (OT Debstedt)\, Niedersachsen\, 27607
END:VEVENT
BEGIN:VEVENT
DTSTART;TZID=Europe/Berlin:20260316T120000
DTEND;TZID=Europe/Berlin:20260316T133000
DTSTAMP:20260422T130138
CREATED:20250816T162526Z
LAST-MODIFIED:20250816T162526Z
UID:1343-1773662400-1773667800@debstedt.com
SUMMARY:Suppenküche des DRK
DESCRIPTION:Einen leckeren Eintopf zum günstigen Preis von fünf Euro bietet das Deutsche Rote Kreuz in der Zeit von Oktober bis Ostern \nin geselliger Runde im Gemeindehaus (Pfarrstraße) an.  Jeweils am 1. und 3. Montag im Monat steht das Angebot v0n 12 bis 13.30 Uhr \nzur Verfügung. Gekocht wird die Speise in der Internatsküche Debstedt.
URL:https://debstedt.com/event/suppenkueche-des-drk-14
LOCATION:Gemeindehaus\, Am Pfarrhaus 1\, Geestland (OT Debstedt)\, Niedersachsen\, 27607
END:VEVENT
BEGIN:VEVENT
DTSTART;TZID=Europe/Berlin:20260302T120000
DTEND;TZID=Europe/Berlin:20260302T133000
DTSTAMP:20260422T130138
CREATED:20250816T162333Z
LAST-MODIFIED:20250816T162333Z
UID:1341-1772452800-1772458200@debstedt.com
SUMMARY:Suppenküche des DRK
DESCRIPTION:Einen leckeren Eintopf zum günstigen Preis von fünf Euro bietet das Deutsche Rote Kreuz in der Zeit von Oktober bis Ostern \nin geselliger Runde im Gemeindehaus (Pfarrstraße) an.  Jeweils am 1. und 3. Montag im Monat steht das Angebot v0n 12 bis 13.30 Uhr \nzur Verfügung. Gekocht wird die Speise in der Internatsküche Debstedt.
URL:https://debstedt.com/event/suppenkueche-des-drk-13
LOCATION:Gemeindehaus\, Am Pfarrhaus 1\, Geestland (OT Debstedt)\, Niedersachsen\, 27607
END:VEVENT
BEGIN:VEVENT
DTSTART;TZID=Europe/Berlin:20260301T080000
DTEND;TZID=Europe/Berlin:20260301T170000
DTSTAMP:20260422T130138
CREATED:20260301T173618Z
LAST-MODIFIED:20260301T173618Z
UID:1670-1772352000-1772384400@debstedt.com
SUMMARY:Die Wremer OperRetten
DESCRIPTION:Eine Revue aus Operette\, Musical und Chanson \naugenzwickernd präsentiert von Benedicta Wagler und Andreas Auffenberg
URL:https://debstedt.com/event/die-wremer-operretten-2
LOCATION:Heimatmuseum Debstedt „De Lindenhoff“\, Kirchenstrs. 6\, Geestland (OT Debstedt)\, Niedersachsen\, 276070\, Deutschland
END:VEVENT
BEGIN:VEVENT
DTSTART;TZID=Europe/Berlin:20260301T080000
DTEND;TZID=Europe/Berlin:20260301T170000
DTSTAMP:20260422T130138
CREATED:20260301T171841Z
LAST-MODIFIED:20260301T171858Z
UID:1663-1772352000-1772384400@debstedt.com
SUMMARY:Die Wremer OperRetten
DESCRIPTION:Eine Revue aus Operette\, Musical und Chanxon \naugenzwinkernd präsentiert von Benedicta Wagler und Andreas Auffenberg
URL:https://debstedt.com/event/die-wremer-operretten
LOCATION:Heimatmuseum Debstedt „De Lindenhoff“\, Kirchenstrs. 6\, Geestland (OT Debstedt)\, Niedersachsen\, 276070\, Deutschland
END:VEVENT
BEGIN:VEVENT
DTSTART;TZID=Europe/Berlin:20260301T080000
DTEND;TZID=Europe/Berlin:20260301T170000
DTSTAMP:20260422T130138
CREATED:20260301T171502Z
LAST-MODIFIED:20260301T171502Z
UID:1661-1772352000-1772384400@debstedt.com
SUMMARY:Herz-Flitter
DESCRIPTION:Ein Chanson-Abend mit Liedern der 30er Jahre… \ntolle Evergreens und Texte die zu Herzen gehen
URL:https://debstedt.com/event/herz-flitter
LOCATION:Heimatmuseum Debstedt „De Lindenhoff“\, Kirchenstrs. 6\, Geestland (OT Debstedt)\, Niedersachsen\, 276070\, Deutschland
END:VEVENT
BEGIN:VEVENT
DTSTART;TZID=Europe/Berlin:20260228T180000
DTEND;TZID=Europe/Berlin:20260228T180000
DTSTAMP:20260422T130138
CREATED:20251113T172222Z
LAST-MODIFIED:20251113T172222Z
UID:1494-1772301600-1772301600@debstedt.com
SUMMARY:Weinprobe mit Familie Leber
DESCRIPTION:Weinprobe mit Familie Leber \nSonnabend\, 28. Februar\, ab 18 Uhr \nWeinausschank persönlich vom Winzer mit Unterhaltung. \nAnmeldung unter Tel.: 06135-3581 oder info@weingut-kastanienhof.de
URL:https://debstedt.com/event/weinprobe-mit-familie-leber
LOCATION:Heimatmuseum Debstedt „De Lindenhoff“\, Kirchenstrs. 6\, Geestland (OT Debstedt)\, Niedersachsen\, 276070\, Deutschland
END:VEVENT
BEGIN:VEVENT
DTSTART;TZID=Europe/Berlin:20260217T144500
DTEND;TZID=Europe/Berlin:20260217T193000
DTSTAMP:20260422T130138
CREATED:20260126T155159Z
LAST-MODIFIED:20260126T155348Z
UID:1626-1771339500-1771356600@debstedt.com
SUMMARY:Blutspende beim DRK
DESCRIPTION:Das freundliche Team von der DRK-Ortsvereinsvorsitzenden Ortrud Morick bittet wieder zur obligatorischen Blutspende in das Gemeindehaus\, Pfarrstraße 3 in Debstedt ein. \n 
URL:https://debstedt.com/event/blutspende-beim-drk-2
LOCATION:Gemeindehaus Debstedt
END:VEVENT
BEGIN:VEVENT
DTSTART;TZID=Europe/Berlin:20260216T120000
DTEND;TZID=Europe/Berlin:20260216T133000
DTSTAMP:20260422T130138
CREATED:20250816T161746Z
LAST-MODIFIED:20250816T161746Z
UID:1339-1771243200-1771248600@debstedt.com
SUMMARY:Suppenküche des DRK
DESCRIPTION:Einen leckeren Eintopf zum günstigen Preis von fünf Euro bietet das Deutsche Rote Kreuz in der Zeit von Oktober bis Ostern \nin geselliger Runde im Gemeindehaus (Pfarrstraße) an.  Jeweils am 1. und 3. Montag im Monat steht das Angebot v0n 12 bis 13.30 Uhr \nzur Verfügung. Gekocht wird die Speise in der Internatsküche Debstedt.
URL:https://debstedt.com/event/suppenkueche-des-drk-12
LOCATION:Gemeindehaus\, Am Pfarrhaus 1\, Geestland (OT Debstedt)\, Niedersachsen\, 27607
END:VEVENT
BEGIN:VEVENT
DTSTART;TZID=Europe/Berlin:20260214T193000
DTEND;TZID=Europe/Berlin:20260214T193000
DTSTAMP:20260422T130138
CREATED:20251113T171943Z
LAST-MODIFIED:20251113T171943Z
UID:1492-1771097400-1771097400@debstedt.com
SUMMARY:Irisch-Folk-Musikabend
DESCRIPTION:Irish-Folk-Musikabend \nSonnabend\, 14. Februar 19.30 Uhr\, Einlass 18.30 Uhr \n„The Moonshiners” – Traditionell Irish Folkband \nMusik\, Folksongs und Balladen\, Irish Beer\, Longdrinks\, Whiskey \nKarten im Vorverkauf\, Tel.: 04743-3229918
URL:https://debstedt.com/event/irisch-folk-musikabend
LOCATION:Heimatmuseum Debstedt „De Lindenhoff“\, Kirchenstrs. 6\, Geestland (OT Debstedt)\, Niedersachsen\, 276070\, Deutschland
END:VEVENT
BEGIN:VEVENT
DTSTART;TZID=Europe/Berlin:20260213T193000
DTEND;TZID=Europe/Berlin:20260213T193000
DTSTAMP:20260422T130138
CREATED:20260126T145059Z
LAST-MODIFIED:20260126T145552Z
UID:1623-1771011000-1771011000@debstedt.com
SUMMARY:Jahreshauptversammlung Freiwillige Feuerwehr Debstedt
DESCRIPTION:Ortsbrandmeister Christian Holst hat die Kameradinnen und Kameraden der Ortswehr Debstedt sowie Gäste zur Jahreshauptversammlung eingeladen. Auf der Tagesordnung stehen umfangreiche Berichte\, Ehrungen sowie Beförderungen. \n 
URL:https://debstedt.com/event/jahreshauptversammlung-freiwillige-feuerwehr-debstedt
LOCATION:Feuerwehrhaus
END:VEVENT
BEGIN:VEVENT
DTSTART;TZID=Europe/Berlin:20260209T150000
DTEND;TZID=Europe/Berlin:20260209T150000
DTSTAMP:20260422T130138
CREATED:20251214T112011Z
LAST-MODIFIED:20251214T112257Z
UID:1567-1770649200-1770649200@debstedt.com
SUMMARY:DRK - Spielenachmittag
DESCRIPTION:
URL:https://debstedt.com/event/drk-spielenachmittag-3
LOCATION:Gemeindehaus\, Am Pfarrhaus 1\, Geestland (OT Debstedt)\, Niedersachsen\, 27607
END:VEVENT
BEGIN:VEVENT
DTSTART;TZID=Europe/Berlin:20260206T190000
DTEND;TZID=Europe/Berlin:20260206T190000
DTSTAMP:20260422T130138
CREATED:20251113T171503Z
LAST-MODIFIED:20251113T171503Z
UID:1490-1770404400-1770404400@debstedt.com
SUMMARY:Jahreshauptversammlung Heimat- und Museumsverein
DESCRIPTION:Jahreshauptversammlung Heimat- und Museumsverein Debstedt e.V. \nFreitag\, 6. Februar\, 19.00 Uhr \nim Heimatmuseum Debstedt\, Kirchenstraße 6
URL:https://debstedt.com/event/jahreshauptversammlung-heimat-und-museumsverein-3
LOCATION:Heimatmuseum Debstedt „De Lindenhoff“\, Kirchenstrs. 6\, Geestland (OT Debstedt)\, Niedersachsen\, 276070\, Deutschland
END:VEVENT
BEGIN:VEVENT
DTSTART;TZID=Europe/Berlin:20260202T120000
DTEND;TZID=Europe/Berlin:20260202T133000
DTSTAMP:20260422T130138
CREATED:20250816T161050Z
LAST-MODIFIED:20250816T161050Z
UID:1334-1770033600-1770039000@debstedt.com
SUMMARY:Suppenküche des DRK
DESCRIPTION:Einen leckeren Eintopf zum günstigen Preis von fünf Euro bietet das Deutsche Rote Kreuz in der Zeit von Oktober bis Ostern \nin geselliger Runde im Gemeindehaus (Pfarrstraße) an.  Jeweils am 1. und 3. Montag im Monat steht das Angebot v0n 12 bis 13.30 Uhr \nzur Verfügung. Gekocht wird die Speise in der Internatsküche Debstedt.
URL:https://debstedt.com/event/suppenkueche-des-drk-10
LOCATION:Gemeindehaus\, Am Pfarrhaus 1\, Geestland (OT Debstedt)\, Niedersachsen\, 27607
END:VEVENT
BEGIN:VEVENT
DTSTART;TZID=Europe/Berlin:20260125T100000
DTEND;TZID=Europe/Berlin:20260125T100000
DTSTAMP:20260422T130138
CREATED:20251214T105451Z
LAST-MODIFIED:20251214T105451Z
UID:1563-1769335200-1769335200@debstedt.com
SUMMARY:Gottesdienst mit Rückgabe der Tauffische
DESCRIPTION:Bei einem Familiengottesdienst am 25. Januar 2026 können die Tauffische von den Täuflingen 2025 abgeholt werden.
URL:https://debstedt.com/event/gottesdienst-mit-rueckgabe-der-tauffische
LOCATION:St. Dionysiuskirche\, Kirchenstraße 7\, Geestland (OT Debstedt)\, Niedersachsen\, 27607\, Deutschland
END:VEVENT
BEGIN:VEVENT
DTSTART;TZID=Europe/Berlin:20260119T120000
DTEND;TZID=Europe/Berlin:20260119T133000
DTSTAMP:20260422T130138
CREATED:20250816T163552Z
LAST-MODIFIED:20250816T163552Z
UID:1345-1768824000-1768829400@debstedt.com
SUMMARY:Suppenküche des DRK
DESCRIPTION:Einen leckeren Eintopf zum günstigen Preis von fünf Euro bietet das Deutsche Rote Kreuz in der Zeit von Oktober bis Ostern \nin geselliger Runde im Gemeindehaus (Pfarrstraße) an.  Jeweils am 1. und 3. Montag im Monat steht das Angebot v0n 12 bis 13.30 Uhr \nzur Verfügung. Gekocht wird die Speise in der Internatsküche Debstedt.
URL:https://debstedt.com/event/suppenkueche-des-drk
LOCATION:Gemeindehaus\, Am Pfarrhaus 1\, Geestland (OT Debstedt)\, Niedersachsen\, 27607
END:VEVENT
BEGIN:VEVENT
DTSTART;TZID=Europe/Berlin:20260118T100000
DTEND;TZID=Europe/Berlin:20260118T113000
DTSTAMP:20260422T130138
CREATED:20251214T104953Z
LAST-MODIFIED:20251214T110833Z
UID:1561-1768730400-1768735800@debstedt.com
SUMMARY:Kindergottesdienst
DESCRIPTION:An mehreren Sonntagen im Jahr findet der Kindergottesdienst in der Zeit von 10 bis 11.30 Uhr statt. \nNächster Termin: Sonntag\, 18. Januar 2026.
URL:https://debstedt.com/event/kindergottesdienst
LOCATION:Gemeindehaus\, Am Pfarrhaus 1\, Geestland (OT Debstedt)\, Niedersachsen\, 27607
END:VEVENT
BEGIN:VEVENT
DTSTART;TZID=Europe/Berlin:20260112T150000
DTEND;TZID=Europe/Berlin:20260112T150000
DTSTAMP:20260422T130138
CREATED:20251023T125059Z
LAST-MODIFIED:20251023T130211Z
UID:1465-1768230000-1768230000@debstedt.com
SUMMARY:Spielenachmittag mit dem DRK
DESCRIPTION:
URL:https://debstedt.com/event/spielenachmittag-mit-dem-drk-7
LOCATION:Gemeindehaus\, Am Pfarrhaus 1\, Geestland (OT Debstedt)\, Niedersachsen\, 27607
END:VEVENT
BEGIN:VEVENT
DTSTART;TZID=Europe/Berlin:20260111T170000
DTEND;TZID=Europe/Berlin:20260111T170000
DTSTAMP:20260422T130138
CREATED:20251214T102452Z
LAST-MODIFIED:20251214T103555Z
UID:1556-1768150800-1768150800@debstedt.com
SUMMARY:Jugendgottesdienst
DESCRIPTION:„30 Minuten für Gott“ lautet das christliche Thema.
URL:https://debstedt.com/event/jugendgottesdienst
LOCATION:Gemeindehaus\, Am Pfarrhaus 1\, Geestland (OT Debstedt)\, Niedersachsen\, 27607
END:VEVENT
BEGIN:VEVENT
DTSTART;TZID=Europe/Berlin:20260110T150000
DTEND;TZID=Europe/Berlin:20260110T150000
DTSTAMP:20260422T130138
CREATED:20251214T101334Z
LAST-MODIFIED:20251214T103313Z
UID:1554-1768057200-1768057200@debstedt.com
SUMMARY:Kirchenkino für Kinder
DESCRIPTION:Der Löwe ist los – Die Fortsetzung unter dem Titel „Gut gebrüllt\, Löwe“ startet um 15 Uhr.
URL:https://debstedt.com/event/kirchenkino-fuer-kinder
LOCATION:Gemeindehaus\, Am Pfarrhaus 1\, Geestland (OT Debstedt)\, Niedersachsen\, 27607
END:VEVENT
BEGIN:VEVENT
DTSTART;TZID=Europe/Berlin:20260109T190000
DTEND;TZID=Europe/Berlin:20260109T190000
DTSTAMP:20260422T130138
CREATED:20251214T100817Z
LAST-MODIFIED:20251214T104130Z
UID:1552-1767985200-1767985200@debstedt.com
SUMMARY:Kirchenkino
DESCRIPTION:Fisherman’s Friends – Vom Kutter in die Charts. Einlass ab 19 Uhr – der Film startet um 19.30 Uhr. \nVor dem Film kann bei leckeren Häppchen und Getränken noch in geselliger Runde geklönt werden.
URL:https://debstedt.com/event/kirchenkino
LOCATION:Gemeindehaus\, Am Pfarrhaus 1\, Geestland (OT Debstedt)\, Niedersachsen\, 27607
END:VEVENT
BEGIN:VEVENT
DTSTART;TZID=Europe/Berlin:20260107T180000
DTEND;TZID=Europe/Berlin:20260107T180000
DTSTAMP:20260422T130138
CREATED:20251214T104524Z
LAST-MODIFIED:20251214T104524Z
UID:1559-1767808800-1767808800@debstedt.com
SUMMARY:KiGo-Team sucht Verstärkung
DESCRIPTION:Das KiGo-Team in Debstedt sucht Verstärkung zur Vorbereitung des Kindergottesdienstes.
URL:https://debstedt.com/event/kigo-team-sucht-verstaerkung
LOCATION:Gemeindehaus\, Am Pfarrhaus 1\, Geestland (OT Debstedt)\, Niedersachsen\, 27607
END:VEVENT
BEGIN:VEVENT
DTSTART;TZID=Europe/Berlin:20260105T120000
DTEND;TZID=Europe/Berlin:20260105T133000
DTSTAMP:20260422T130138
CREATED:20250816T161547Z
LAST-MODIFIED:20250816T161547Z
UID:1337-1767614400-1767619800@debstedt.com
SUMMARY:Suppenküche des DRK
DESCRIPTION:Einen leckeren Eintopf zum günstigen Preis von fünf Euro bietet das Deutsche Rote Kreuz in der Zeit von Oktober bis Ostern \nin geselliger Runde im Gemeindehaus (Pfarrstraße) an.  Jeweils am 1. und 3. Montag im Monat steht das Angebot v0n 12 bis 13.30 Uhr \nzur Verfügung. Gekocht wird die Speise in der Internatsküche Debstedt.
URL:https://debstedt.com/event/suppenkueche-des-drk-11
LOCATION:Gemeindehaus\, Am Pfarrhaus 1\, Geestland (OT Debstedt)\, Niedersachsen\, 27607
END:VEVENT
BEGIN:VEVENT
DTSTART;TZID=Europe/Berlin:20251215T120000
DTEND;TZID=Europe/Berlin:20251215T133000
DTSTAMP:20260422T130138
CREATED:20250816T160545Z
LAST-MODIFIED:20250816T160545Z
UID:1330-1765800000-1765805400@debstedt.com
SUMMARY:Suppenküche des DRK
DESCRIPTION:Einen leckeren Eintopf zum günstigen Preis von fünf Euro bietet das Deutsche Rote Kreuz in der Zeit von Oktober bis Ostern \nin geselliger Runde im Gemeindehaus (Pfarrstraße) an.  Jeweils am 1. und 3. Montag im Monat steht das Angebot v0n 12 bis 13.30 Uhr \nzur Verfügung. Gekocht wird die Speise in der Internatsküche Debstedt.
URL:https://debstedt.com/event/suppenkueche-des-drk-8
LOCATION:Gemeindehaus\, Am Pfarrhaus 1\, Geestland (OT Debstedt)\, Niedersachsen\, 27607
END:VEVENT
BEGIN:VEVENT
DTSTART;TZID=Europe/Berlin:20251214T180000
DTEND;TZID=Europe/Berlin:20251214T180000
DTSTAMP:20260422T130138
CREATED:20251207T110334Z
LAST-MODIFIED:20251207T111545Z
UID:1544-1765735200-1765735200@debstedt.com
SUMMARY:Konzert des Seemanns-Chores
DESCRIPTION:…… und der Mühlenkindergarten ist mit einer Abordnung auch dabei !
URL:https://debstedt.com/event/konzert-des-seemanns-chores
LOCATION:St. Dionysiuskirche\, Kirchenstraße 7\, Geestland (OT Debstedt)\, Niedersachsen\, 27607\, Deutschland
END:VEVENT
END:VCALENDAR