BEGIN:VCALENDAR
VERSION:2.0
PRODID:-//Dorfgemeinschaft Debstedt - ECPv6.15.20//NONSGML v1.0//EN
CALSCALE:GREGORIAN
METHOD:PUBLISH
X-WR-CALNAME:Dorfgemeinschaft Debstedt
X-ORIGINAL-URL:https://debstedt.com
X-WR-CALDESC:Veranstaltungen für Dorfgemeinschaft Debstedt
REFRESH-INTERVAL;VALUE=DURATION:PT1H
X-Robots-Tag:noindex
X-PUBLISHED-TTL:PT1H
BEGIN:VTIMEZONE
TZID:Europe/Berlin
BEGIN:DAYLIGHT
TZOFFSETFROM:+0100
TZOFFSETTO:+0200
TZNAME:CEST
DTSTART:20250330T010000
END:DAYLIGHT
BEGIN:STANDARD
TZOFFSETFROM:+0200
TZOFFSETTO:+0100
TZNAME:CET
DTSTART:20251026T010000
END:STANDARD
BEGIN:DAYLIGHT
TZOFFSETFROM:+0100
TZOFFSETTO:+0200
TZNAME:CEST
DTSTART:20260329T010000
END:DAYLIGHT
BEGIN:STANDARD
TZOFFSETFROM:+0200
TZOFFSETTO:+0100
TZNAME:CET
DTSTART:20261025T010000
END:STANDARD
BEGIN:DAYLIGHT
TZOFFSETFROM:+0100
TZOFFSETTO:+0200
TZNAME:CEST
DTSTART:20270328T010000
END:DAYLIGHT
BEGIN:STANDARD
TZOFFSETFROM:+0200
TZOFFSETTO:+0100
TZNAME:CET
DTSTART:20271031T010000
END:STANDARD
END:VTIMEZONE
BEGIN:VEVENT
DTSTART;TZID=Europe/Berlin:20260105T120000
DTEND;TZID=Europe/Berlin:20260105T133000
DTSTAMP:20260420T150229
CREATED:20250816T161547Z
LAST-MODIFIED:20250816T161547Z
UID:1337-1767614400-1767619800@debstedt.com
SUMMARY:Suppenküche des DRK
DESCRIPTION:Einen leckeren Eintopf zum günstigen Preis von fünf Euro bietet das Deutsche Rote Kreuz in der Zeit von Oktober bis Ostern \nin geselliger Runde im Gemeindehaus (Pfarrstraße) an.  Jeweils am 1. und 3. Montag im Monat steht das Angebot v0n 12 bis 13.30 Uhr \nzur Verfügung. Gekocht wird die Speise in der Internatsküche Debstedt.
URL:https://debstedt.com/event/suppenkueche-des-drk-11
LOCATION:Gemeindehaus\, Am Pfarrhaus 1\, Geestland (OT Debstedt)\, Niedersachsen\, 27607
END:VEVENT
BEGIN:VEVENT
DTSTART;TZID=Europe/Berlin:20260107T180000
DTEND;TZID=Europe/Berlin:20260107T180000
DTSTAMP:20260420T150229
CREATED:20251214T104524Z
LAST-MODIFIED:20251214T104524Z
UID:1559-1767808800-1767808800@debstedt.com
SUMMARY:KiGo-Team sucht Verstärkung
DESCRIPTION:Das KiGo-Team in Debstedt sucht Verstärkung zur Vorbereitung des Kindergottesdienstes.
URL:https://debstedt.com/event/kigo-team-sucht-verstaerkung
LOCATION:Gemeindehaus\, Am Pfarrhaus 1\, Geestland (OT Debstedt)\, Niedersachsen\, 27607
END:VEVENT
BEGIN:VEVENT
DTSTART;TZID=Europe/Berlin:20260109T190000
DTEND;TZID=Europe/Berlin:20260109T190000
DTSTAMP:20260420T150229
CREATED:20251214T100817Z
LAST-MODIFIED:20251214T104130Z
UID:1552-1767985200-1767985200@debstedt.com
SUMMARY:Kirchenkino
DESCRIPTION:Fisherman’s Friends – Vom Kutter in die Charts. Einlass ab 19 Uhr – der Film startet um 19.30 Uhr. \nVor dem Film kann bei leckeren Häppchen und Getränken noch in geselliger Runde geklönt werden.
URL:https://debstedt.com/event/kirchenkino
LOCATION:Gemeindehaus\, Am Pfarrhaus 1\, Geestland (OT Debstedt)\, Niedersachsen\, 27607
END:VEVENT
BEGIN:VEVENT
DTSTART;TZID=Europe/Berlin:20260110T150000
DTEND;TZID=Europe/Berlin:20260110T150000
DTSTAMP:20260420T150229
CREATED:20251214T101334Z
LAST-MODIFIED:20251214T103313Z
UID:1554-1768057200-1768057200@debstedt.com
SUMMARY:Kirchenkino für Kinder
DESCRIPTION:Der Löwe ist los – Die Fortsetzung unter dem Titel „Gut gebrüllt\, Löwe“ startet um 15 Uhr.
URL:https://debstedt.com/event/kirchenkino-fuer-kinder
LOCATION:Gemeindehaus\, Am Pfarrhaus 1\, Geestland (OT Debstedt)\, Niedersachsen\, 27607
END:VEVENT
BEGIN:VEVENT
DTSTART;TZID=Europe/Berlin:20260111T170000
DTEND;TZID=Europe/Berlin:20260111T170000
DTSTAMP:20260420T150229
CREATED:20251214T102452Z
LAST-MODIFIED:20251214T103555Z
UID:1556-1768150800-1768150800@debstedt.com
SUMMARY:Jugendgottesdienst
DESCRIPTION:„30 Minuten für Gott“ lautet das christliche Thema.
URL:https://debstedt.com/event/jugendgottesdienst
LOCATION:Gemeindehaus\, Am Pfarrhaus 1\, Geestland (OT Debstedt)\, Niedersachsen\, 27607
END:VEVENT
BEGIN:VEVENT
DTSTART;TZID=Europe/Berlin:20260112T150000
DTEND;TZID=Europe/Berlin:20260112T150000
DTSTAMP:20260420T150229
CREATED:20251023T125059Z
LAST-MODIFIED:20251023T130211Z
UID:1465-1768230000-1768230000@debstedt.com
SUMMARY:Spielenachmittag mit dem DRK
DESCRIPTION:
URL:https://debstedt.com/event/spielenachmittag-mit-dem-drk-7
LOCATION:Gemeindehaus\, Am Pfarrhaus 1\, Geestland (OT Debstedt)\, Niedersachsen\, 27607
END:VEVENT
BEGIN:VEVENT
DTSTART;TZID=Europe/Berlin:20260118T100000
DTEND;TZID=Europe/Berlin:20260118T113000
DTSTAMP:20260420T150229
CREATED:20251214T104953Z
LAST-MODIFIED:20251214T110833Z
UID:1561-1768730400-1768735800@debstedt.com
SUMMARY:Kindergottesdienst
DESCRIPTION:An mehreren Sonntagen im Jahr findet der Kindergottesdienst in der Zeit von 10 bis 11.30 Uhr statt. \nNächster Termin: Sonntag\, 18. Januar 2026.
URL:https://debstedt.com/event/kindergottesdienst
LOCATION:Gemeindehaus\, Am Pfarrhaus 1\, Geestland (OT Debstedt)\, Niedersachsen\, 27607
END:VEVENT
BEGIN:VEVENT
DTSTART;TZID=Europe/Berlin:20260119T120000
DTEND;TZID=Europe/Berlin:20260119T133000
DTSTAMP:20260420T150229
CREATED:20250816T163552Z
LAST-MODIFIED:20250816T163552Z
UID:1345-1768824000-1768829400@debstedt.com
SUMMARY:Suppenküche des DRK
DESCRIPTION:Einen leckeren Eintopf zum günstigen Preis von fünf Euro bietet das Deutsche Rote Kreuz in der Zeit von Oktober bis Ostern \nin geselliger Runde im Gemeindehaus (Pfarrstraße) an.  Jeweils am 1. und 3. Montag im Monat steht das Angebot v0n 12 bis 13.30 Uhr \nzur Verfügung. Gekocht wird die Speise in der Internatsküche Debstedt.
URL:https://debstedt.com/event/suppenkueche-des-drk
LOCATION:Gemeindehaus\, Am Pfarrhaus 1\, Geestland (OT Debstedt)\, Niedersachsen\, 27607
END:VEVENT
BEGIN:VEVENT
DTSTART;TZID=Europe/Berlin:20260125T100000
DTEND;TZID=Europe/Berlin:20260125T100000
DTSTAMP:20260420T150229
CREATED:20251214T105451Z
LAST-MODIFIED:20251214T105451Z
UID:1563-1769335200-1769335200@debstedt.com
SUMMARY:Gottesdienst mit Rückgabe der Tauffische
DESCRIPTION:Bei einem Familiengottesdienst am 25. Januar 2026 können die Tauffische von den Täuflingen 2025 abgeholt werden.
URL:https://debstedt.com/event/gottesdienst-mit-rueckgabe-der-tauffische
LOCATION:St. Dionysiuskirche\, Kirchenstraße 7\, Geestland (OT Debstedt)\, Niedersachsen\, 27607\, Deutschland
END:VEVENT
END:VCALENDAR